Workbook
Name dv: #REF!
Name h: #REF!
Name t: #REF!
Name x: #REF!

Sheet 104CKTC
A1: =t -> #REF! | F1: Biểu số 104/CK TC-NSNN
A2: =x -> #REF!
A3: DỰ TOÁN THU NGÂN SÁCH XÃ NĂM 2026
A4: (Kèm theo Thông báo số /BC-UBND ngày tháng 12 năm 2025 của UBND xã Vĩnh Hậu)
A5: (Dự toán trình Hội đồng nhân dân)
G6: =dv -> #REF!
A7: STT | B7: NỘI DUNG | C7: ƯỚC THỰC HIỆN NĂM 2026 | E7: DỰ TOÁN NĂM 2026 | G7: SO SÁNH (%)
C8: THU NSNN | D8: THU NSX | E8: THU NSNN | F8: THU NSX | G8: THU NSNN | H8: THU NSX
A9: A | B9: B | C9: 1 | D9: 2 | E9: 3 | F9: 4 | G9: 5=3/1 | H9: 6=4/2
A10: A | B10: TỔNG THU NGÂN SÁCH NHÀ NƯỚC TRÊN ĐỊA BÀN: (I+II) | C10: =C11 -> 22350 | D10: =C10 -> 22350 | E10: =D10 -> 22350 | F10: =E10 -> 22350 | G10: =E10/C10*100 -> 100 | H10: =F10/D10*100 -> 100
A11: I | B11: THU NỘI ĐỊA | C11: =C12+C13+C14+C15+C20+C21+C22+C23+C24+C26+C27+C28+C29+C31 -> 22350 | D11: =C11 -> 22350 | E11: =D11 -> 22350 | F11: =E11 -> 22350 | G11: =E11/C11*100 -> 100 | H11: =F11/D11*100 -> 100
A12: 1 | B12: Thu từ doanh nghiệp nhà nước do Trung ương quản lý | D12: =C12 -> 0 | E12: =D12 -> 0 | F12: =E12 -> 0
A13: 2 | B13: Thu từ doanh nghiệp nhà nước do địa phương quản lý | D13: =C13 -> 0 | E13: =D13 -> 0 | F13: =E13 -> 0
A14: 3 | B14: Thu từ khu vực doanh nghiệp có vốn đầu tư nước ngoài | D14: =C14 -> 0 | E14: =D14 -> 0 | F14: =E14 -> 0
A15: 4 | B15: Thu từ khu vực kinh tế ngoài quốc doanh | C15: =SUM(C16:C19) -> 12445 | D15: =C15 -> 12445 | E15: =D15 -> 12445 | F15: =E15 -> 12445 | G15: =E15/C15*100 -> 100 | H15: =F15/D15*100 -> 100
B16: Thuế thu nhập doanh nghiệp | C16: 1810 | D16: =C16 -> 1810 | E16: =D16 -> 1810 | F16: =E16 -> 1810 | G16: =E16/C16*100 -> 100 | H16: =F16/D16*100 -> 100
B17: Thuế tài nguyên | C17: 10 | D17: =C17 -> 10 | E17: =D17 -> 10 | F17: =E17 -> 10 | G17: =E17/C17*100 -> 100 | H17: =F17/D17*100 -> 100
B18: Thuế giá trị gia tăng | C18: 10535 | D18: =C18 -> 10535 | E18: =D18 -> 10535 | F18: =E18 -> 10535 | G18: =E18/C18*100 -> 100 | H18: =F18/D18*100 -> 100
B19: Thuế tiêu thụ đặc biệt | C19: 90 | D19: =C19 -> 90 | E19: =D19 -> 90 | F19: =E19 -> 90 | G19: =E19/C19*100 -> 100 | H19: =F19/D19*100 -> 100
A20: 5 | B20: Lệ phí trước bạ nhà, đất | C20: 3755 | D20: =C20 -> 3755 | E20: =D20 -> 3755 | F20: =E20 -> 3755 | G20: =E20/C20*100 -> 100 | H20: =F20/D20*100 -> 100
A21: 6 | B21: Thuế sử dụng đất phi nông nghiệp | D21: =C21 -> 0 | E21: =D21 -> 0 | F21: =E21 -> 0
A22: 7 | B22: Thuế thu nhập cá nhân | C22: 2480 | D22: =C22 -> 2480 | E22: =D22 -> 2480 | F22: =E22 -> 2480 | G22: =E22/C22*100 -> 100 | H22: =F22/D22*100 -> 100
A23: 8 | B23: Thuế bảo vệ môi trường | D23: =C23 -> 0 | E23: =D23 -> 0 | F23: =E23 -> 0
A24: 9 | B24: Phí, lệ phí | C24: 305 | D24: =C24 -> 305 | E24: =D24 -> 305 | F24: =E24 -> 305 | G24: =E24/C24*100 -> 100 | H24: =F24/D24*100 -> 100
B25: Trong đó: Phí, lệ phí Trung ương | C25: 10 | D25: =C25 -> 10 | E25: =D25 -> 10 | F25: =E25 -> 10 | G25: =E25/C25*100 -> 100 | H25: =F25/D25*100 -> 100
A26: 10 | B26: Thu tiền sử dụng đất | C26: 1850 | D26: =C26 -> 1850 | E26: =D26 -> 1850 | F26: =E26 -> 1850 | G26: =E26/C26*100 -> 100 | H26: =F26/D26*100 -> 100
A27: 11 | B27: Thu tiền thuê mặt đất, mặt nước | D27: =C27 -> 0 | E27: =D27 -> 0 | F27: =E27 -> 0
A28: 12 | B28: Thu hoa lợi công sản, quỹ đất công ích,… tại xã | D28: =C28 -> 0 | E28: =D28 -> 0 | F28: =E28 -> 0
A29: 13 | B29: Thu khác ngân sách | C29: 1515 | D29: =C29 -> 1515 | E29: =D29 -> 1515 | F29: =E29 -> 1515 | G29: =E29/C29*100 -> 100 | H29: =F29/D29*100 -> 100
B30: Trong đó: Thu khác Trung ương | C30: 265 | D30: =C30 -> 265 | E30: =D30 -> 265 | F30: =E30 -> 265 | G30: =E30/C30*100 -> 100 | H30: =F30/D30*100 -> 100
A31: 14 | B31: Thu tiền sử dụng khu vực biển | D31: =C31 -> 0 | E31: =D31 -> 0 | F31: =E31 -> 0
A32: II | B32: TỔNG THU NGÂN SÁCH ĐỊA PHƯƠNG | C32: =C33+C37 -> 182951 | D32: =C32 -> 182951 | E32: =D32 -> 182951 | F32: =E32 -> 182951 | G32: =E32/C32*100 -> 100 | H32: =F32/D32*100 -> 100
A33: I | B33: Thu cân đối ngân sách địa phương: | C33: 18746 | D33: =C33 -> 18746 | E33: =D33 -> 18746 | F33: =E33 -> 18746 | G33: =E33/C33*100 -> 100 | H33: =F33/D33*100 -> 100
B34: Nguồn 50% tăng thu dự toán năm 2026/dự toán năm 2025 | C34: 7790 | D34: =C34 -> 7790 | E34: =D34 -> 7790 | F34: =E34 -> 7790 | G34: =E34/C34*100 -> 100 | H34: =F34/D34*100 -> 100
B35: Các khoản phân chia theo tỷ lệ phần trăm (%) | C35: 13446 | D35: =C35 -> 13446 | E35: =D35 -> 13446 | F35: =E35 -> 13446 | G35: =E35/C35*100 -> 100 | H35: =F35/D35*100 -> 100
B36: Các khoản địa phương hưởng 100% | C36: 5300 | D36: =C36 -> 5300 | E36: =D36 -> 5300 | F36: =E36 -> 5300 | G36: =E36/C36*100 -> 100 | H36: =F36/D36*100 -> 100
A37: II | B37: Thu bổ sung từ ngân sách cấp trên: | C37: =SUM(C38:C40) -> 164205 | D37: =C37 -> 164205 | E37: =D37 -> 164205 | F37: =E37 -> 164205 | G37: =E37/C37*100 -> 100 | H37: =F37/D37*100 -> 100
A38: 1 | B38: Thu bổ sung cân đối ngân sách | C38: 126844 | D38: =C38 -> 126844 | E38: =D38 -> 126844 | F38: =E38 -> 126844 | G38: =E38/C38*100 -> 100 | H38: =F38/D38*100 -> 100
A39: 2 | B39: Thu bổ sung nguồn thực hiện cải cách tiền lương | C39: 30451 | D39: =C39 -> 30451 | E39: =D39 -> 30451 | F39: =E39 -> 30451 | G39: =E39/C39*100 -> 100 | H39: =F39/D39*100 -> 100
A40: 3 | B40: Thu bổ sung có mục tiêu | C40: 6910 | D40: =C40 -> 6910 | E40: =D40 -> 6910 | F40: =E40 -> 6910 | G40: =E40/C40*100 -> 100 | H40: =F40/D40*100 -> 100
...

Sheet 105CKTC
A1: =t -> #REF! | G1: Biểu số 105/CK TC-NSNN
A2: =x -> #REF! | M2: T
A3: DỰ TOÁN CHI NGÂN SÁCH XÃ NĂM 2026
A4: (Kèm theo Thông báo số /TB-UBND ngày tháng 12 năm 2025 của UBND xã Vĩnh Hậu)
A5: (Dự toán trình Hội đồng nhân dân)
J6: =dv -> #REF!
A7: STT | B7: NỘI DUNG | C7: ƯỚC THỰC HIỆN NĂM 2026 | F7: DỰ TOÁN NĂM 2026 | I7: SO SÁNH (%)
C8: TỔNG SỐ | D8: ĐẦU TƯ PHÁT TRIỂN | E8: THƯỜNG XUYÊN | F8: TỔNG SỐ | G8: ĐẦU TƯ PHÁT TRIỂN | H8: THƯỜNG XUYÊN | I8: TỔNG SỐ | J8: ĐẦU TƯ PHÁT TRIỂN | K8: THƯỜNG XUYÊN
A9: A | B9: B | C9: 1 | D9: 2 | E9: 3 | F9: 4 | G9: 5 | H9: 6 | I9: 7=4/1 | J9: 8=5/2 | K9: 9=6/3
B10: TỔNG CHI | C10: =C12+C13 -> 182951 | D10: =D12+D13 -> 1101 | E10: =E12+E13 -> 182951 | F10: =C10 -> 182951 | G10: =D10 -> 1101 | H10: =E10 -> 182951 | I10: =F10/C10*100 -> 100 | J10: =G10/D10*100 -> 100 | K10: =H10/E10*100 -> 100
B11: Trong đó | F11: =C11 -> 0 | G11: =D11 -> 0 | H11: =E11 -> 0 | L11: =182951-E10 -> 0
A12: I | B12: Chi đầu tư phát triển | C12: =D12 -> 1101 | D12: 1101 | E12: 1101 | F12: =C12 -> 1101 | G12: =D12 -> 1101 | H12: =E12 -> 1101 | I12: =F12/C12*100 -> 100 | J12: =G12/D12*100 -> 100
A13: II | B13: Chi thường xuyên | C13: =SUM(C14:C30) -> 181850 | E13: =SUM(E14:E30) -> 181850 | F13: =C13 -> 181850 | G13: =D13 -> 0 | H13: =E13 -> 181850 | I13: =F13/C13*100 -> 100 | K13: =H13/E13*100 -> 100
B14: 10% tiết kiệm cải cách tiền lương | C14: =E14 -> 2819 | E14: 2819 | F14: =C14 -> 2819 | G14: =D14 -> 0 | H14: =E14 -> 2819 | I14: =F14/C14*100 -> 100 | K14: =H14/E14*100 -> 100
A15: 1 | B15: Chi Quốc phòng | C15: =E15 -> 4511 | E15: 4511 | F15: =C15 -> 4511 | G15: =D15 -> 0 | H15: =E15 -> 4511 | I15: =F15/C15*100 -> 100 | K15: =H15/E15*100 -> 100
A16: 2 | B16: Chi An ninh | C16: =E16 -> 2411 | E16: 2411 | F16: =C16 -> 2411 | G16: =D16 -> 0 | H16: =E16 -> 2411 | I16: =F16/C16*100 -> 100 | K16: =H16/E16*100 -> 100
A17: 3 | B17: Chi sự nghiệp giáo dục | C17: =E17 -> 103403 | E17: 103403 | F17: =C17 -> 103403 | G17: =D17 -> 0 | H17: =E17 -> 103403 | I17: =F17/C17*100 -> 100 | K17: =H17/E17*100 -> 100
A18: 4 | B18: Chi sự nghiệp đào tạo | C18: =E18 -> 300 | E18: 300 | F18: =C18 -> 300 | G18: =D18 -> 0 | H18: =E18 -> 300 | I18: =F18/C18*100 -> 100 | K18: =H18/E18*100 -> 100
A19: 5 | B19: Chi ứng dụng, chuyển giao công nghệ | C19: =E19 -> 0 | F19: =C19 -> 0 | G19: =D19 -> 0 | H19: =E19 -> 0
A20: 6 | B20: Chi y tế | C20: =E20 -> 0 | F20: =C20 -> 0 | G20: =D20 -> 0 | H20: =E20 -> 0
A21: 7 | B21: Chi văn hóa, thông tin | C21: =E21 -> 350 | E21: 350 | F21: =C21 -> 350 | G21: =D21 -> 0 | H21: =E21 -> 350 | I21: =F21/C21*100 -> 100 | K21: =H21/E21*100 -> 100
A22: 8 | B22: Chi phát thanh, truyền thanh | C22: =E22 -> 200 | E22: 200 | F22: =C22 -> 200 | G22: =D22 -> 0 | H22: =E22 -> 200 | I22: =F22/C22*100 -> 100 | K22: =H22/E22*100 -> 100
A23: 9 | B23: Chi thể dục thể thao | C23: =E23 -> 350 | E23: 350 | F23: =C23 -> 350 | G23: =D23 -> 0 | H23: =E23 -> 350 | I23: =F23/C23*100 -> 100 | K23: =H23/E23*100 -> 100
A24: 10 | B24: Chi bảo vệ môi trường | C24: =E24 -> 2600 | E24: 2600 | F24: =C24 -> 2600 | G24: =D24 -> 0 | H24: =E24 -> 2600 | I24: =F24/C24*100 -> 100 | K24: =H24/E24*100 -> 100
A25: 11 | B25: Chi các hoạt động kinh tế | C25: =E25 -> 7323 | E25: 7323 | F25: =C25 -> 7323 | G25: =D25 -> 0 | H25: =E25 -> 7323 | I25: =F25/C25*100 -> 100 | K25: =H25/E25*100 -> 100
A26: 12 | B26: Chi hoạt động của cơ quan quản lý Nhà nước, Đảng, đoàn thể | C26: =E26 -> 31051 | E26: =25366+5263+422 -> 31051 | F26: =C26 -> 31051 | G26: =D26 -> 0 | H26: =E26 -> 31051 | I26: =F26/C26*100 -> 100 | K26: =H26/E26*100 -> 100
A27: 13 | B27: Chi cho công tác xã hội | C27: =E27 -> 15208 | E27: 15208 | F27: =C27 -> 15208 | G27: =D27 -> 0 | H27: =E27 -> 15208 | I27: =F27/C27*100 -> 100 | K27: =H27/E27*100 -> 100
A28: 14 | B28: Chi khác | C28: =E28 -> 962 | E28: 962 | F28: =C28 -> 962 | G28: =D28 -> 0 | H28: =E28 -> 962 | I28: =F28/C28*100 -> 100 | K28: =H28/E28*100 -> 100
A29: 15 | B29: Dự phòng ngân sách | C29: =E29 -> 3452 | E29: 3452 | F29: =C29 -> 3452 | G29: =D29 -> 0 | H29: =E29 -> 3452 | I29: =F29/C29*100 -> 100 | K29: =H29/E29*100 -> 100
A30: 16 | B30: Chi bổ sung có mục tiêu | C30: =E30 -> 6910 | E30: 6910 | F30: =C30 -> 6910 | G30: =D30 -> 0 | H30: =E30 -> 6910 | I30: =F30/C30*100 -> 100 | K30: =H30/E30*100 -> 100

Sheet 106CKTC
A1: =t -> #REF! | F1: Biểu số 106/CK TC-NSNN
A2: =h -> #REF!
A3: =x -> #REF!
A4: DỰ TOÁN CHI ĐẦU TƯ PHÁT TRIỂN(1) NĂM...
A6: (Dự toán trình Hội đồng nhân dân)
I7: =dv -> #REF!
A8: Tên công trình | B8: Thời gian khởi công - hoàn thành | C8: Tổng dự toán được duyệt | E8: Giá trị thực hiện đến 31/12… | F8: Giá trị đã thanh toán đến 31/12/… | G8: Dự toán năm…
G9: Tổng số | H9: Trong đó thanh toán khối lượng năm trước | I9: Chia theo nguồn vốn
C11: Tổng số | D11: Trong đó nguồn đóng góp của dân | I11: Nguồn cân đối ngân sách | J11: Nguồn đóng góp
A12: TỔNG SỐ
A13: 1. Công trình chuyển tiếp
A14: -
A15: -
A16: Trong đó: hoàn thành trong năm
A17: -
A18: -
A19: 2. Công trình khởi công mới
A20: -
A21: -
A22: Trong đó: hoàn thành trong năm
A23: -
... A30: Ghi chú: (1) Theo phân cấp của tỉnh

Sheet 107CKTC
A1: =t -> #REF! | D1: Biểu số 107/CK TC-NSNN
A2: =h -> #REF!
A3: =x -> #REF!
A4: KẾ HOẠCH THU, CHI CÁC HOẠT ĐỘNG TÀI CHÍNH KHÁC NĂM…
A5: (Dự toán trình Hội đồng nhân dân)
E6: =dv -> #REF!
A7: NỘI DUNG | B7: ƯỚC THỰC HIỆN NĂM …….. | E7: KẾ HOẠCH NĂM…
B8: (năm hiện hành)
B9: THU | C9: CHI | D9: CHÊNH LỆCH (+) (-) | E9: THU | F9: CHI | G9: CHÊNH LỆCH (+) (-)
A10: TỔNG SỐ
A11: 1. Các quỹ tài chính nhà nước ngoài ngân sách
A12: -
A13: -
A14: -
A15: - …
A16: 2. Các hoạt động sự nghiệp
A17: + Chợ
A18: + Bến bãi
A19: +
A20: + …
A21: …
... A26: Chênh lệch (-) thu nhỏ hơn chi

Sheet 108CKTC
A1: Tỉnh: An Giang | C1: Biểu số 108/CK TC-NSNN
A2: Xã: Vĩnh Hậu
A3: CÂN ĐỐI DỰ TOÁN NGÂN SÁCH XÃ NĂM 2026
A4: (Kèm theo Quyết định số 10A /QĐ-UBND ngày 07 tháng 01 năm 2026 của UBND xã Vĩnh Hậu)
A5: (Dự toán đã được Hội đồng nhân dân phê duyệt)
C6: Đơn vị: triệu đồng
A7: NỘI DUNG | B7: DỰ TOÁN | C7: NỘI DUNG CHI | D7: DỰ TOÁN
A8: TỔNG SỐ THU | B8: =B9+B11+B13 -> 182951 | C8: TỔNG SỐ CHI | D8: =D9+D11+D13+D14 -> 182951
A9: I. Các khoản thu xã hưởng 100% | B9: 5300 | C9: I. Chi đầu tư phát triển | D9: 1101
A11: II. Các khoản thu phân chia theo tỷ lệ (1) | B11: 13446 | C11: II. Chi thường xuyên | D11: 171488
A13: III. Thu bổ sung | B13: =B14+B15 -> 164205 | C13: III. Dự phòng | D13: 3452
A14: - Bổ sung cân đối | B14: =126844+30451 -> 157295 | C14: IV. Chi bổ sung có mục tiêu | D14: 6910
A15: - Bổ sung có mục tiêu | B15: 6910
A16: IV. Thu chuyển nguồn

Sheet 109CKTC
A1: =t -> #REF! | F1: Biểu số 109/CK TC-NSNN
A2: =x -> #REF!
A3: DỰ TOÁN THU NGÂN SÁCH XÃ NĂM 2026
A4: (Kèm theo Quyết định số 10A /QĐ-UBND ngày 07 tháng 01 năm 2026 của UBND xã Vĩnh Hậu)
A5: (Dự toán đã được Hội đồng nhân dân phê duyệt)
G6: =dv -> #REF!
A7: STT | B7: NỘI DUNG | C7: ƯỚC THỰC HIỆN NĂM 2026 | E7: DỰ TOÁN NĂM 2026 | G7: SO SÁNH (%)
C8: THU NSNN | D8: THU NSX | E8: THU NSNN | F8: THU NSX | G8: THU NSNN | H8: THU NSX
A9: A | B9: B | C9: 1 | D9: 2 | E9: 3 | F9: 4 | G9: 5=3/1 | H9: 6=4/2
A10: A | B10: TỔNG THU NGÂN SÁCH NHÀ NƯỚC TRÊN ĐỊA BÀN: (I+II) | C10: =C11 -> 22350 | D10: =C10 -> 22350 | E10: =D10 -> 22350 | F10: =E10 -> 22350 | G10: =E10/C10*100 -> 100 | H10: =F10/D10*100 -> 100
A11: I | B11: THU NỘI ĐỊA | C11: =C12+C13+C14+C15+C20+C21+C22+C23+C24+C26+C27+C28+C29+C31 -> 22350 | D11: =C11 -> 22350 | E11: =D11 -> 22350 | F11: =E11 -> 22350 | G11: =E11/C11*100 -> 100 | H11: =F11/D11*100 -> 100
A12: 1 | B12: Thu từ doanh nghiệp nhà nước do Trung ương quản lý | D12: =C12 -> 0 | E12: =D12 -> 0 | F12: =E12 -> 0
A13: 2 | B13: Thu từ doanh nghiệp nhà nước do địa phương quản lý | D13: =C13 -> 0 | E13: =D13 -> 0 | F13: =E13 -> 0
A14: 3 | B14: Thu từ khu vực doanh nghiệp có vốn đầu tư nước ngoài | D14: =C14 -> 0 | E14: =D14 -> 0 | F14: =E14 -> 0
A15: 4 | B15: Thu từ khu vực kinh tế ngoài quốc doanh | C15: =SUM(C16:C19) -> 12445 | D15: =C15 -> 12445 | E15: =D15 -> 12445 | F15: =E15 -> 12445 | G15: =E15/C15*100 -> 100 | H15: =F15/D15*100 -> 100
B16: Thuế thu nhập doanh nghiệp | C16: 1810 | D16: =C16 -> 1810 | E16: =D16 -> 1810 | F16: =E16 -> 1810 | G16: =E16/C16*100 -> 100 | H16: =F16/D16*100 -> 100
B17: Thuế tài nguyên | C17: 10 | D17: =C17 -> 10 | E17: =D17 -> 10 | F17: =E17 -> 10 | G17: =E17/C17*100 -> 100 | H17: =F17/D17*100 -> 100
B18: Thuế giá trị gia tăng | C18: 10535 | D18: =C18 -> 10535 | E18: =D18 -> 10535 | F18: =E18 -> 10535 | G18: =E18/C18*100 -> 100 | H18: =F18/D18*100 -> 100
B19: Thuế tiêu thụ đặc biệt | C19: 90 | D19: =C19 -> 90 | E19: =D19 -> 90 | F19: =E19 -> 90 | G19: =E19/C19*100 -> 100 | H19: =F19/D19*100 -> 100
A20: 5 | B20: Lệ phí trước bạ nhà, đất | C20: 3755 | D20: =C20 -> 3755 | E20: =D20 -> 3755 | F20: =E20 -> 3755 | G20: =E20/C20*100 -> 100 | H20: =F20/D20*100 -> 100
A21: 6 | B21: Thuế sử dụng đất phi nông nghiệp | D21: =C21 -> 0 | E21: =D21 -> 0 | F21: =E21 -> 0
A22: 7 | B22: Thuế thu nhập cá nhân | C22: 2480 | D22: =C22 -> 2480 | E22: =D22 -> 2480 | F22: =E22 -> 2480 | G22: =E22/C22*100 -> 100 | H22: =F22/D22*100 -> 100
A23: 8 | B23: Thuế bảo vệ môi trường | D23: =C23 -> 0 | E23: =D23 -> 0 | F23: =E23 -> 0
A24: 9 | B24: Phí, lệ phí | C24: 305 | D24: =C24 -> 305 | E24: =D24 -> 305 | F24: =E24 -> 305 | G24: =E24/C24*100 -> 100 | H24: =F24/D24*100 -> 100
B25: Trong đó: Phí, lệ phí Trung ương | C25: 10 | D25: =C25 -> 10 | E25: =D25 -> 10 | F25: =E25 -> 10 | G25: =E25/C25*100 -> 100 | H25: =F25/D25*100 -> 100
A26: 10 | B26: Thu tiền sử dụng đất | C26: 1850 | D26: =C26 -> 1850 | E26: =D26 -> 1850 | F26: =E26 -> 1850 | G26: =E26/C26*100 -> 100 | H26: =F26/D26*100 -> 100
A27: 11 | B27: Thu tiền thuê mặt đất, mặt nước | D27: =C27 -> 0 | E27: =D27 -> 0 | F27: =E27 -> 0
A28: 12 | B28: Thu hoa lợi công sản, quỹ đất công ích,… tại xã | D28: =C28 -> 0 | E28: =D28 -> 0 | F28: =E28 -> 0
A29: 13 | B29: Thu khác ngân sách | C29: 1515 | D29: =C29 -> 1515 | E29: =D29 -> 1515 | F29: =E29 -> 1515 | G29: =E29/C29*100 -> 100 | H29: =F29/D29*100 -> 100
B30: Trong đó: Thu khác Trung ương | C30: 265 | D30: =C30 -> 265 | E30: =D30 -> 265 | F30: =E30 -> 265 | G30: =E30/C30*100 -> 100 | H30: =F30/D30*100 -> 100
A31: 14 | B31: Thu tiền sử dụng khu vực biển | D31: =C31 -> 0 | E31: =D31 -> 0 | F31: =E31 -> 0
A32: II | B32: TỔNG THU NGÂN SÁCH ĐỊA PHƯƠNG | C32: =C33+C37 -> 182951 | D32: =C32 -> 182951 | E32: =D32 -> 182951 | F32: =E32 -> 182951 | G32: =E32/C32*100 -> 100 | H32: =F32/D32*100 -> 100
A33: I | B33: Thu cân đối ngân sách địa phương: | C33: 18746 | D33: =C33 -> 18746 | E33: =D33 -> 18746 | F33: =E33 -> 18746 | G33: =E33/C33*100 -> 100 | H33: =F33/D33*100 -> 100
B34: Nguồn 50% tăng thu dự toán năm 2026/dự toán năm 2025 | C34: 7790 | D34: =C34 -> 7790 | E34: =D34 -> 7790 | F34: =E34 -> 7790 | G34: =E34/C34*100 -> 100 | H34: =F34/D34*100 -> 100
B35: Các khoản phân chia theo tỷ lệ phần trăm (%) | C35: 13446 | D35: =C35 -> 13446 | E35: =D35 -> 13446 | F35: =E35 -> 13446 | G35: =E35/C35*100 -> 100 | H35: =F35/D35*100 -> 100
B36: Các khoản địa phương hưởng 100% | C36: 5300 | D36: =C36 -> 5300 | E36: =D36 -> 5300 | F36: =E36 -> 5300 | G36: =E36/C36*100 -> 100 | H36: =F36/D36*100 -> 100
A37: II | B37: Thu bổ sung từ ngân sách cấp trên: | C37: =SUM(C38:C40) -> 164205 | D37: =C37 -> 164205 | E37: =D37 -> 164205 | F37: =E37 -> 164205 | G37: =E37/C37*100 -> 100 | H37: =F37/D37*100 -> 100
A38: 1 | B38: Thu bổ sung cân đối ngân sách | C38: 126844 | D38: =C38 -> 126844 | E38: =D38 -> 126844 | F38: =E38 -> 126844 | G38: =E38/C38*100 -> 100 | H38: =F38/D38*100 -> 100
A39: 2 | B39: Thu bổ sung nguồn thực hiện cải cách tiền lương | C39: 30451 | D39: =C39 -> 30451 | E39: =D39 -> 30451 | F39: =E39 -> 30451 | G39: =E39/C39*100 -> 100 | H39: =F39/D39*100 -> 100
A40: 3 | B40: Thu bổ sung có mục tiêu | C40: 6910 | D40: =C40 -> 6910 | E40: =D40 -> 6910 | F40: =E40 -> 6910 | G40: =E40/C40*100 -> 100 | H40: =F40/D40*100 -> 100
...

Sheet 110CKTC
A1: =t -> #REF! | G1: Biểu số 110/CK TC-NSNN
A2: =x -> #REF! | M2: T
A3: DỰ TOÁN CHI NGÂN SÁCH XÃ NĂM 2026
A4: (Kèm theo Quyết định số 10A /QĐ-UBND ngày 07 tháng 01 năm 2026 của UBND xã Vĩnh Hậu)
A5: (Dự toán đã được Hội đồng nhân dân phê duyệt)
J6: =dv -> #REF!
A7: STT | B7: NỘI DUNG | C7: ƯỚC THỰC HIỆN NĂM 2026 | F7: DỰ TOÁN NĂM 2026 | I7: SO SÁNH (%)
C8: TỔNG SỐ | D8: ĐẦU TƯ PHÁT TRIỂN | E8: THƯỜNG XUYÊN | F8: TỔNG SỐ | G8: ĐẦU TƯ PHÁT TRIỂN | H8: THƯỜNG XUYÊN | I8: TỔNG SỐ | J8: ĐẦU TƯ PHÁT TRIỂN | K8: THƯỜNG XUYÊN
A9: A | B9: B | C9: 1 | D9: 2 | E9: 3 | F9: 4 | G9: 5 | H9: 6 | I9: 7=4/1 | J9: 8=5/2 | K9: 9=6/3
B10: TỔNG CHI | C10: =C12+C13 -> 182951 | D10: =D12+D13 -> 1101 | E10: =E12+E13 -> 181850 | F10: =C10 -> 182951 | G10: =D10 -> 1101 | H10: =E10 -> 181850 | I10: =F10/C10*100 -> 100 | J10: =G10/D10*100 -> 100 | K10: =H10/E10*100 -> 100
B11: Trong đó | F11: =C11 -> 0 | G11: =D11 -> 0 | H11: =E11 -> 0
A12: I | B12: Chi đầu tư phát triển | C12: =D12 -> 1101 | D12: 1101 | F12: =C12 -> 1101 | G12: =D12 -> 1101 | H12: =E12 -> 0 | I12: =F12/C12*100 -> 100 | J12: =G12/D12*100 -> 100
A13: II | B13: Chi thường xuyên | C13: =SUM(C14:C30) -> 181850 | E13: =SUM(E14:E30) -> 181850 | F13: =C13 -> 181850 | G13: =D13 -> 0 | H13: =E13 -> 181850 | I13: =F13/C13*100 -> 100 | K13: =H13/E13*100 -> 100
B14: 10% tiết kiệm cải cách tiền lương | C14: =E14 -> 2819 | E14: 2819 | F14: =C14 -> 2819 | G14: =D14 -> 0 | H14: =E14 -> 2819 | I14: =F14/C14*100 -> 100 | K14: =H14/E14*100 -> 100
A15: 1 | B15: Chi Quốc phòng | C15: =E15 -> 4511 | E15: 4511 | F15: =C15 -> 4511 | G15: =D15 -> 0 | H15: =E15 -> 4511 | I15: =F15/C15*100 -> 100 | K15: =H15/E15*100 -> 100
A16: 2 | B16: Chi An ninh | C16: =E16 -> 2411 | E16: 2411 | F16: =C16 -> 2411 | G16: =D16 -> 0 | H16: =E16 -> 2411 | I16: =F16/C16*100 -> 100 | K16: =H16/E16*100 -> 100
A17: 3 | B17: Chi sự nghiệp giáo dục | C17: =E17 -> 103403 | E17: 103403 | F17: =C17 -> 103403 | G17: =D17 -> 0 | H17: =E17 -> 103403 | I17: =F17/C17*100 -> 100 | K17: =H17/E17*100 -> 100
A18: 4 | B18: Chi sự nghiệp đào tạo | C18: =E18 -> 300 | E18: 300 | F18: =C18 -> 300 | G18: =D18 -> 0 | H18: =E18 -> 300 | I18: =F18/C18*100 -> 100 | K18: =H18/E18*100 -> 100
A19: 5 | B19: Chi ứng dụng, chuyển giao công nghệ | C19: =E19 -> 0 | F19: =C19 -> 0 | G19: =D19 -> 0 | H19: =E19 -> 0
A20: 6 | B20: Chi y tế | C20: =E20 -> 0 | F20: =C20 -> 0 | G20: =D20 -> 0 | H20: =E20 -> 0
A21: 7 | B21: Chi văn hóa, thông tin | C21: =E21 -> 350 | E21: 350 | F21: =C21 -> 350 | G21: =D21 -> 0 | H21: =E21 -> 350 | I21: =F21/C21*100 -> 100 | K21: =H21/E21*100 -> 100
A22: 8 | B22: Chi phát thanh, truyền thanh | C22: =E22 -> 200 | E22: 200 | F22: =C22 -> 200 | G22: =D22 -> 0 | H22: =E22 -> 200 | I22: =F22/C22*100 -> 100 | K22: =H22/E22*100 -> 100
A23: 9 | B23: Chi thể dục thể thao | C23: =E23 -> 350 | E23: 350 | F23: =C23 -> 350 | G23: =D23 -> 0 | H23: =E23 -> 350 | I23: =F23/C23*100 -> 100 | K23: =H23/E23*100 -> 100
A24: 10 | B24: Chi bảo vệ môi trường | C24: =E24 -> 2600 | E24: 2600 | F24: =C24 -> 2600 | G24: =D24 -> 0 | H24: =E24 -> 2600 | I24: =F24/C24*100 -> 100 | K24: =H24/E24*100 -> 100
A25: 11 | B25: Chi các hoạt động kinh tế | C25: =E25 -> 7323 | E25: 7323 | F25: =C25 -> 7323 | G25: =D25 -> 0 | H25: =E25 -> 7323 | I25: =F25/C25*100 -> 100 | K25: =H25/E25*100 -> 100
A26: 12 | B26: Chi hoạt động của cơ quan quản lý Nhà nước, Đảng, đoàn thể | C26: =E26 -> 31051 | E26: =25366+5263+422 -> 31051 | F26: =C26 -> 31051 | G26: =D26 -> 0 | H26: =E26 -> 31051 | I26: =F26/C26*100 -> 100 | K26: =H26/E26*100 -> 100
A27: 13 | B27: Chi cho công tác xã hội | C27: =E27 -> 15208 | E27: 15208 | F27: =C27 -> 15208 | G27: =D27 -> 0 | H27: =E27 -> 15208 | I27: =F27/C27*100 -> 100 | K27: =H27/E27*100 -> 100
A28: 14 | B28: Chi khác | C28: =E28 -> 962 | E28: 962 | F28: =C28 -> 962 | G28: =D28 -> 0 | H28: =E28 -> 962 | I28: =F28/C28*100 -> 100 | K28: =H28/E28*100 -> 100
A29: 15 | B29: Dự phòng ngân sách | C29: =E29 -> 3452 | E29: 3452 | F29: =C29 -> 3452 | G29: =D29 -> 0 | H29: =E29 -> 3452 | I29: =F29/C29*100 -> 100 | K29: =H29/E29*100 -> 100
A30: 16 | B30: Chi bổ sung có mục tiêu | C30: =E30 -> 6910 | E30: 6910 | F30: =C30 -> 6910 | G30: =D30 -> 0 | H30: =E30 -> 6910 | I30: =F30/C30*100 -> 100 | K30: =H30/E30*100 -> 100

Sheet 111CKTT
A1: =t -> #REF! | H1: Biểu số 111/CK TC-NSNN
A2: =h -> #REF!
A3: =x -> #REF!
A4: DỰ TOÁN THU NGÂN SÁCH XÃ NĂM 2024
A5: DỰ TOÁN CHI ĐẦU TƯ PHÁT TRIỂN(1) NĂM...
A6: (Dự toán đã được Hội đồng nhân dân quyết định)
I7: =dv -> #REF!
A8: Tên công trình | B8: Thời gian khởi công - hoàn thành | C8: Tổng dự toán được duyệt | E8: Giá trị thực hiện đến 31/12… | F8: Giá trị đã thanh toán đến 31/12/… | G8: Dự toán năm…
G9: Tổng số | H9: Trong đó thanh toán khối lượng năm trước | I9: Chia theo nguồn vốn
C10: Tổng số | D10: Trong đó nguồn đóng góp của dân | I10: Nguồn cân đối ngân sách | J10: Nguồn đóng góp
A11: TỔNG SỐ
A12: 1. Công trình chuyển tiếp
A13: -
A14: -
A15: Trong đó: hoàn thành trong năm
A16: -
A17: -
A18: 2. Công trình khởi công mới
A19: -
A20: -
A21: Trong đó: hoàn thành trong năm
A22: -
... A28: Ghi chú: (1) Theo phân cấp của tỉnh

Sheet 112CKTC
A1: =t -> #REF!
A2: =h -> #REF! | J2: Biểu số 112/CK TC-NSNN
A3: =x -> #REF!
A4: DỰ TOÁN THU NGÂN SÁCH XÃ NĂM 2024
A5: KẾ HOẠCH THU, CHI CÁC HOẠT ĐỘNG TÀI CHÍNH KHÁC NĂM…
A6: (Dự toán đã được Hội đồng nhân dân quyết định)
F7: =dv -> #REF!
A8: NỘI DUNG | B8: ƯỚC THỰC HIỆN NĂM …….. | E8: KẾ HOẠCH NĂM…
B9: (năm hiện hành)
B10: THU | C10: CHI | D10: CHÊNH LỆCH (+) (-) | E10: THU | F10: CHI | G10: CHÊNH LỆCH (+) (-)
A11: TỔNG SỐ
A12: 1. Các quỹ tài chính nhà nước ngoài ngân sách
A13: -
A14: -
A15: -
A16: - …
A17: 2. Các hoạt động sự nghiệp
A18: + Chợ
A19: + Bến bãi
A20: +
A21: + …
A22: …
... A27: Chênh lệch (-) thu nhỏ hơn chi

Sheet 113CKTC
C1: Biểu số 113/CK TC-NSNN
A4: CÂN ĐỐI NGÂN SÁCH XÃ QUÝ II NĂM 2026
A5: (Kèm theo Quyết định số 2093 /QĐ-PKT ngày 03 tháng 8 năm 2026 của UBND xã Vĩnh Hậu)
D6: Đvt: triệu đồng
A7: STT | B7: NỘI DUNG | C7: DỰ TOÁN NĂM | D7: THỰC HIỆN QUÝ II NĂM 2026 | E7: SO SÁNH
A8: A | B8: B | C8: 1 | D8: 2 | E8: 3=2/1 | F8: =61285 -> 61285
A9: I | B9: TỔNG SỐ THU | C9: =C10+C11+C12+C15+C17 -> 182951 | D9: =D10+D11+D12+D15+D16+D17 -> 167943 | E9: =D9/C9*100 -> 91.796711 | F9: =404+5+18+6675+114+1246+52424+400 -> 61286
A10: 1 | B10: Các khoản thu xã hưởng 100% | C10: 5300 | D10: ='114CKTC'!E36 -> 2856.1
A11: 2 | B11: Các khoản thu phân chia theo tỷ lệ (1) | C11: 13446 | D11: ='114CKTC'!E35 -> 16272.9
A12: 3 | B12: Thu bổ sung | C12: =C13+C14 -> 164205 | D12: =D13+D14 -> 105059
B13: - Thu bổ sung cân đối | C13: =126844+30451 -> 157295 | D13: ='114CKTC'!E41 -> 78642
B14: - Thu bổ sung có mục tiêu | C14: 6910 | D14: ='114CKTC'!E42 -> 26417
A15: 4 | B15: Thu chuyển nguồn | D15: ='114CKTC'!E38 -> 23836
A16: 5 | B16: Thu kết dư ngân sách năm trước | D16: ='114CKTC'!E39 -> 19519
A17: 6 | B17: Tạm thu và vay chưa đưa vào ngân sách | D17: 400
A18: II | B18: TỔNG SỐ CHI | C18: =SUM(C19:C22) -> 182951 | D18: =SUM(D19:D22) -> 99664 | E18: =D18/C18*100 -> 54.475789 | F18: =99664-D19-D21 -> 91646
A19: 1 | B19: Chi đầu tư phát triển | C19: 1101 | D19: 7657
A20: 2 | B20: Chi thường xuyên | C20: 171488 | D20: 91646
A21: 3 | B21: Dự phòng | C21: 3452 | D21: 361
A22: 4 | B22: Chi bổ sung có mục tiêu | C22: 6910
A23: Ghi chú: (1) Bao gồm 4 khoản thuế, lệ phí luật NSNN quy định cho ngân sách xã hưởng và những khoản thu ngân sách địa phương được hưởng dùng để phân chia theo tỷ lệ phần trăm (%) cho xã

Sheet 114CKTC
F1: Biểu số 114/CK TC-NSNN
A4: THỰC HIỆN THU NGÂN SÁCH XÃ QUÝ II NĂM 2026
A5: (Kèm theo Quyết định số 2093 /QĐ-PKT ngày 03 tháng 8 năm 2026 của UBND xã Vĩnh Hậu)
F6: ĐVT: đồng
A7: STT | B7: NỘI DUNG | C7: DỰ TOÁN NĂM 2026 | E7: THỰC HIỆN QUÝ II NĂM 2026 | G7: SO SÁNH (%) | K7: =#REF!-E40-E38-E39 -> #REF!
C8: THU NSNN | D8: THU NSX | E8: THU NSNN | F8: THU NSX | G8: THU NSNN | H8: THU NSX | J8: PHÂN CHIA
A9: A | B9: B | C9: 1 | D9: 2 | E9: 3 | F9: 4 | G9: 5=3/1 | H9: 6=4/2 | J9: XÃ | K9: TINH
A10: A | B10: TỔNG THU NSNN TRÊN ĐỊA BÀN | C10: =C11 -> 22350 | D10: =D11 -> 22350 | E10: =E11 -> 19129 | F10: =E10 -> 19129 | G10: =E10/C10*100 -> 85.588367 | H10: =F10/D10*100 -> 85.588367 | I10: =I11 -> 2998
A11: I | B11: THU NỘI ĐỊA | C11: =C12+C13+C14+C15+C20+C21+C22+C23+C24+C26+C27+C28+C29+C31 -> 22350 | D11: =D12+D13+D14+D15+D20+D21+D22+D23+D24+D26+D27+D28+D29+D31 -> 22350 | E11: =E12+E13+E14+E15+E20+E21+E22+E23+E24+E26+E27+E28+E29+E31 -> 19129 | F11: =F12+F13+F14+F15+F20+F21+F22+F23+F24+F26+F27+F28+F29+F31 -> 19129 | G11: =G12+G13+G14+G15+G20+G21+G22+G23+G24+G26+G27+G28+G29+G31 -> 261.2284 | H11: =F11/D11*100 -> 85.588367 | I11: =I12+I13+I14+I15+I20+I21+I22+I23+I24+I26+I27+I28+I29+I31 -> 2998 | J11: =J12+J13+J14+J15+J20+J21+J22+J23+J24+J26+J27+J28+J29+J31 -> 2856.1 | K11: =K12+K13+K14+K15+K20+K21+K22+K23+K24+K26+K27+K28+K29+K31 -> 16272.9
A12: 1 | B12: Thu từ doanh nghiệp nhà nước do Trung ương quản lý | D12: =C12 -> 0 | F12: =E12 -> 0
A13: 2 | B13: Thu từ doanh nghiệp nhà nước do địa phương quản lý | D13: =C13 -> 0 | F13: =E13 -> 0
A14: 3 | B14: Thu từ khu vực doanh nghiệp có vốn đầu tư nước ngoài | D14: =C14 -> 0 | F14: =E14 -> 0
A15: 4 | B15: Thu từ khu vực kinh tế ngoài quốc doanh | C15: =SUM(C16:C19) -> 12445 | D15: =SUM(D16:D19) -> 12445 | E15: =SUM(E16:E19) -> 16131 | F15: =E15 -> 16131 | G15: =E15/C15*100 -> 129.61832 | H15: =F15/D15*100 -> 129.61832 | K15: =E15 -> 16131
B16: Thuế thu nhập doanh nghiệp (1052) | C16: 1810 | D16: =C16 -> 1810 | E16: =I16 -> 1428 | F16: =E16 -> 1428 | G16: =E16/C16*100 -> 78.895028 | H16: =F16/D16*100 -> 78.895028 | I16: =1394+34 -> 1428
B17: Thuế tài nguyên | C17: 10 | D17: =C17 -> 10 | E17: =I17 -> 0 | F17: =E17 -> 0 | H17: =F17/D17*100 -> 0
B18: Thuế giá trị gia tăng (1701) | C18: 10535 | D18: =C18 -> 10535 | E18: =I18 -> 14703 | F18: =E18 -> 14703 | G18: =E18/C18*100 -> 139.56336 | H18: =F18/D18*100 -> 139.56336 | I18: =13701+183+819 -> 14703
B19: Thuế tiêu thụ đặc biệt | C19: 90 | D19: =C19 -> 90 | E19: =I19 -> 0 | F19: =E19 -> 0 | H19: =F19/D19*100 -> 0
A20: 5 | B20: Lệ phí trước bạ nhà, đất (2801,…2864) | C20: 3755 | D20: =C20 -> 3755 | E20: =I20 -> 1873 | F20: =E20 -> 1873 | G20: =E20/C20*100 -> 49.88016 | H20: =F20/D20*100 -> 49.88016 | I20: =12+12+4+1843+2 -> 1873 | J20: =E20 -> 1873
A21: 6 | B21: Thuế sử dụng đất phi nông nghiệp (1601,…1649) | D21: =C21 -> 0 | E21: =I21 -> 16 | F21: =E21 -> 16 | I21: =2+2+4+8 -> 16 | J21: =E21 -> 16
A22: 7 | B22: Thuế thu nhập cá nhân | C22: 2480 | D22: =C22 -> 2480 | E22: =I22 -> 0 | F22: =E22 -> 0 | G22: =E22/C22*100 -> 0 | H22: =F22/D22*100 -> 0
A23: 8 | B23: Thuế bảo vệ môi trường (2618) | D23: =C23 -> 0 | E23: =I23 -> 5 | F23: =E23 -> 5 | I23: =5 -> 5 | J23: =E23 -> 5
A24: 9 | B24: Phí, lệ phí (2716, 2721, 2771) | C24: 305 | D24: =C24 -> 305 | E24: =I24 -> 53 | F24: =E24 -> 53 | G24: =E24/C24*100 -> 17.377049 | H24: =F24/D24*100 -> 17.377049 | I24: =43+10 -> 53 | J24: =E24*70% -> 37.1 | K24: =E24-J24 -> 15.9
B25: Trong đó: Phí, lệ phí Trung ương | C25: 10 | D25: =C25 -> 10 | E25: =I25 -> 0 | F25: =E25 -> 0 | H25: =F25/D25*100 -> 0
A26: 10 | B26: Thu tiền sử dụng đất (1401) | C26: 1850 | D26: =C26 -> 1850 | E26: =I26 -> 420 | F26: =E26 -> 420 | G26: =E26/C26*100 -> 22.702703 | H26: =F26/D26*100 -> 22.702703 | I26: =420 -> 420 | J26: =E26*70% -> 294 | K26: =E26-J26 -> 126
A27: 11 | B27: Thu tiền thuê mặt đất, mặt nước | D27: =C27 -> 0 | E27: =I27 -> 0 | F27: =E27 -> 0
A28: 12 | B28: Thu hoa lợi công sản, quỹ đất công ích,… tại xã | D28: =C28 -> 0 | E28: =I28 -> 0 | F28: =E28 -> 0
A29: 13 | B29: Thu khác ngân sách (4299,….4949) | C29: 1515 | D29: =C29 -> 1515 | E29: =I29 -> 631 | F29: =E29 -> 631 | G29: =E29/C29*100 -> 41.650165 | H29: =F29/D29*100 -> 41.650165 | I29: =18+416+169+4+24 -> 631 | J29: =E29 -> 631
B30: Trong đó: Thu khác Trung ương | C30: 265 | D30: =C30 -> 265 | E30: =I30 -> 0 | F30: =E30 -> 0 | H30: =F30/D30*100 -> 0
A31: 14 | B31: Thu tiền sử dụng khu vực biển | D31: =C31 -> 0 | E31: =I31 -> 0 | F31: =E31 -> 0
A32: B | B32: TỔNG THU NGÂN SÁCH ĐỊA PHƯƠNG | C32: =C33+C38+C39+C40+C43 -> 182951 | D32: =D33+D38+D39+D40+D43 -> 182951 | E32: =E33+E38+E39+E40+E43 -> 167943 | F32: =E32 -> 167943 | G32: =E32/C32*100 -> 91.796711 | H32: =F32/D32*100 -> 91.796711 | J32: =148415 -> 148415 | L32: =E33+E40+E43 -> 124588
A33: I | B33: Thu cân đối ngân sách địa phương: | C33: =C35+C34+C36 -> 18746 | D33: =D35+D34+D36 -> 18746 | E33: =E35+E34+E36 -> 19129 | F33: =E33 -> 19129 | G33: =E33/C33*100 -> 102.0431 | H33: =F33/D33*100 -> 102.0431 | I33: =E32-167944 -> -1
B34: Nguồn 50% tăng thu dự toán năm 2026/dự toán năm 2025 | F34: =E34 -> 0
B35: Các khoản phân chia theo tỷ lệ phần trăm (%) | C35: 13446 | D35: =C35 -> 13446 | E35: =K11 -> 16272.9 | F35: =E35 -> 16272.9 | H35: =F35/D35*100 -> 121.0241
B36: Các khoản địa phương hưởng 100% | C36: 5300 | D36: =C36 -> 5300 | E36: =J11 -> 2856.1 | F36: =E36 -> 2856.1 | G36: =E36/C36*100 -> 53.888679 | H36: =F36/D36*100 -> 53.888679
A37: II | B37: Thu viện trợ không hoàn lại trực tiếp cho xã (nếu có) | F37: =E37 -> 0
A38: III | B38: Thu chuyển nguồn | E38: 23836 | F38: =E38 -> 23836 | I38: 23836
A39: IV | B39: Thu kết dư ngân sách năm trước | E39: 19519 | F39: =E39 -> 19519 | I39: 19519
A40: V | B40: Thu bổ sung từ ngân sách cấp trên | C40: =C41+C42 -> 164205 | D40: =D41+D42 -> 164205 | E40: =E41+E42 -> 105059 | F40: =E40 -> 105059 | G40: =E40/C40*100 -> 63.98039 | H40: =F40/D40*100 -> 63.98039 | I40: =I41+I42 -> 339000
B41: - Thu bổ sung cân đối | C41: =126844+30451 -> 157295 | D41: =C41 -> 157295 | E41: 78642 | F41: =E41 -> 78642 | G41: =E41/C41*100 -> 49.996503 | H41: =F41/D41*100 -> 49.996503 | I41: 79000
B42: - Thu bổ sung có mục tiêu | C42: 6910 | D42: =C42 -> 6910 | E42: 26417 | F42: =E42 -> 26417 | G42: =E42/C42*100 -> 382.30101 | I42: 260000
...

Sheet biểu 75
A1: Đơn vị: ỦY BAN NHÂN DÂN XÃ VĨNH HẬU | H1: Mẫu biểu số 75
A2: Chương:
A3: CÔNG KHAI THỰC HIỆN DỰ TOÁN THU, CHI NGÂN SÁCH NHÀ NƯỚC QUÝ III NĂM 2026
A4: (Kèm theo Quyết định số 3567/QĐ-UBND ngày 06 tháng 10 năm 2026 của UBND xã Vĩnh Hậu)
J5: Đvt: triệu đồng
A6: STT | B6: NỘI DUNG | C6: DỰ TOÁN NĂM | F6: ƯỚC THỰC HIỆN QUÝ III NĂM 2026 | I6: ƯỚC THỰC HIỆN/DỰ TOÁN (tỷ lệ) | J6: ƯỚC THỰC HIỆN SO VỚI CÙNG KỲ NĂM TRƯỚC (tỷ lệ)
G7: XDCB | H7: TX
A8: A | B8: B | C8: 1 | D8: 2 | E8: 3 | F8: 2 | G8: 5 | H8: 6 | I8: 3=2/1 | J8: 4
A9: A | B9: DỰ TOÁN THU NGÂN SÁCH NHÀ NƯỚC | C9: =C10 -> 22350 | F9: =F10 -> 24447 | I9: =F9/C9*100 -> 109.38255
A10: I | B10: Số thu phí, lệ phí | C10: ='114CKTC'!C11 -> 22350 | F10: =F11+F12+F13+F14+F19+F20+F21+F22+F23+F25+F26+F27+F28+F30 -> 24447 | I10: =F10/C10*100 -> 109.38255
A11: 1 | B11: Thu từ doanh nghiệp nhà nước do Trung ương quản lý | C11: ='114CKTC'!C12 -> 0 | F11: ='114CKTC'!E12 -> 0
A12: 2 | B12: Thu từ doanh nghiệp nhà nước do địa phương quản lý | C12: ='114CKTC'!C13 -> 0 | F12: ='114CKTC'!E13 -> 0
A13: 3 | B13: Thu từ khu vực doanh nghiệp có vốn đầu tư nước ngoài | C13: ='114CKTC'!C14 -> 0 | F13: ='114CKTC'!E14 -> 0
A14: 4 | B14: Thu từ khu vực kinh tế ngoài quốc doanh | C14: ='114CKTC'!C15 -> 12445 | F14: =F15+F16+F17+F18 -> 19240
A15: - | B15: Thuế thu nhập doanh nghiệp (1052) | C15: ='114CKTC'!C16 -> 1810 | F15: 1569
A16: - | B16: Thuế tài nguyên | C16: ='114CKTC'!C17 -> 10
A17: - | B17: Thuế giá trị gia tăng (1701) | C17: ='114CKTC'!C18 -> 10535 | F17: 17671
A18: - | B18: Thuế tiêu thụ đặc biệt | C18: ='114CKTC'!C19 -> 90
A19: 5 | B19: Lệ phí trước bạ nhà, đất (2801,…2864) | C19: ='114CKTC'!C20 -> 3755 | F19: 2988
A20: 6 | B20: Thuế sử dụng đất phi nông nghiệp (1601,…1649) | C20: ='114CKTC'!C21 -> 0
A21: 7 | B21: Thuế thu nhập cá nhân | C21: ='114CKTC'!C22 -> 2480
A22: 8 | B22: Thuế bảo vệ môi trường (2618) | C22: ='114CKTC'!C23 -> 0
A23: 9 | B23: Phí, lệ phí (2716, 2721, 2771) | C23: ='114CKTC'!C24 -> 305 | F23: 145
A24: - | B24: Trong đó: Phí, lệ phí Trung ương | C24: ='114CKTC'!C25 -> 10
A25: 10 | B25: Thu tiền sử dụng đất (1401) | C25: ='114CKTC'!C26 -> 1850 | F25: 1553
A26: 11 | B26: Thu tiền thuê mặt đất, mặt nước | C26: ='114CKTC'!C27 -> 0
A27: 12 | B27: Thu hoa lợi công sản, quỹ đất công ích,… tại xã | C27: ='114CKTC'!C28 -> 0
A28: 13 | B28: Thu khác ngân sách (4299,….4949) | C28: ='114CKTC'!C29 -> 1515 | F28: 521
A29: - | B29: Trong đó: Thu khác Trung ương | C29: ='114CKTC'!C30 -> 265 | F29: 117
A30: 14 | B30: Thu tiền sử dụng khu vực biển | C30: ='114CKTC'!C31 -> 0
A31: II | B31: Tổng thu cân đối ngân sách | C31: =C32+C35+C36+C37+C38+C41 -> 182951 | D31: =D32+D35+D36+D37+D38+D41 -> 0 | E31: =E32+E35+E36+E37+E38+E41 -> 0 | F31: =F32+F35+F36+F37+F38+F41 -> 217483 | I31: =F31/C31*100 -> 118.875
A32: 1 | B32: Thu cân đối ngân sách địa phương: | C32: =C33+C34 -> 18746 | D32: =D33+D34 -> 0 | E32: =E33+E34 -> 0 | F32: =F33+F34 -> 18746 | I32: =F32/C32*100 -> 100
A33: - | B33: Các khoản phân chia theo tỷ lệ phần trăm (%) | C33: ='114CKTC'!C35 -> 13446 | F33: 13446 | I33: =F33/C33*100 -> 100
A34: - | B34: Các khoản địa phương hưởng 100% | C34: ='114CKTC'!C36 -> 5300 | F34: 5300 | I34: =F34/C34*100 -> 100
A35: 2 | B35: Thu viện trợ không hoàn lại trực tiếp cho xã (nếu có) | C35: ='114CKTC'!C37 -> 0 | F35: ='114CKTC'!E37 -> 0
A36: 3 | B36: Thu chuyển nguồn | C36: ='114CKTC'!C38 -> 0 | F36: ='114CKTC'!E38 -> 23836
A37: 4 | B37: Thu kết dư ngân sách năm trước | C37: ='114CKTC'!C39 -> 0 | F37: ='114CKTC'!E39 -> 19519
A38: 5 | B38: Thu bổ sung từ ngân sách cấp trên | C38: =C39+C40 -> 164205 | D38: =D39+D40 -> 0 | E38: =E39+E40 -> 0 | F38: =F39+F40 -> 154982 | I38: =F38/C38*100 -> 94.38324
A39: - | B39: Thu bổ sung cân đối | C39: ='114CKTC'!C41 -> 157295 | F39: 117963
A40: - | B40: Thu bổ sung có mục tiêu | C40: ='114CKTC'!C42 -> 6910 | F40: 37019
...

Sheet 116CKTC
A1: =t -> #REF! | D1: Biểu số 116/CK TC-NSNN
A2: =h -> #REF!
A3: =x -> #REF!
A4: CÂN ĐỐI QUYẾT TOÁN NGÂN SÁCH XÃ NĂM...
A5: (Quyết toán đã được Hội đồng nhân dân phê chuẩn)
D6: =dv -> #REF!
A7: NỘI DUNG | B7: QUYẾT TOÁN | C7: NỘI DUNG CHI | D7: QUYẾT TOÁN
A8: TỔNG SỐ THU | C8: TỔNG SỐ CHI
A9: I. Các khoản thu xã hưởng 100% | C9: I. Chi đầu tư phát triển
A10: II. Các khoản thu phân chia theo tỷ lệ (1) | C10: II. Chi thường xuyên
A11: III. Thu bổ sung | C11: III. Chi chuyển nguồn của ngân sách xã sang năm sau (nếu có)
A12: - Bổ sung cân đối | C12: IV. Chi nộp trả ngân sách cấp trên
A13: - Bổ sung có mục tiêu
A14: IV. Thu kết dư ngân sách năm trước
A15: V. Thu viện trợ
A16: VI. Thu chuyển nguồn từ năm trước sang của ngân sách xã (nếu có)
A17: Kết dư ngân sách
A19: Ghi chú: (1) Bao gồm 4 khoản thu từ thuế, lệ phí luật NSNN quy định cho ngân sách xã hưởng và những khoản thu ngân sách địa phương được hưởng có phân chia theo tỷ lệ phần trăm (%) cho xã

Sheet 117CKTC
A1: =t -> #REF! | H1: Biểu số 117/CK TC-NSNN
A2: =h -> #REF!
A3: =x -> #REF!
A4: QUYẾT TOÁN THU NGÂN SÁCH XÃ NĂM...
A5: (Quyết toán đã được Hội đồng nhân dân phê chuẩn)
G6: =dv -> #REF!
A7: STT | B7: NỘI DUNG | C7: DỰ TOÁN | E7: QUYẾT TOÁN | G7: SO SÁNH (%)
C8: THU NSNN | D8: THU NSX | E8: THU NSNN | F8: THU NSX | G8: THU NSNN | H8: THU NSX
A9: A | B9: B | C9: 1 | D9: 2 | E9: 3 | F9: 4 | G9: 5=3/1 | H9: 6=4/2
B10: TỔNG THU
A11: I | B11: Các khoản thu 100%
B12: Phí, lệ phí
B13: Thu từ quỹ đất công ích và thu hoa lợi công sản khác
B14: Thu từ hoạt động kinh tế và sự nghiệp
B15: Thu phạt, tịch thu khác theo quy định
B16: Thu từ tài sản được xác lập quyền sở hữu của nhà nước theo quy định
B17: Đóng góp của nhân dân theo quy định
B18: Đóng góp tự nguyện của các tổ chức, cá nhân
B19: Thu khác
A20: II | B20: Các khoản thu phân chia theo tỷ lệ phần trăm (%)
A21: 1 | B21: Các khoản thu phân chia
B22: - Thuế sử dụng đất phi nông nghiệp
B23: - Thuế sử dụng đất nông nghiệp thu từ hộ gia đình
B24: - Lệ phí môn bài thu từ cá nhân, hộ kinh doanh
B25: - Lệ phí trước bạ nhà, đất
A26: 2 | B26: Các khoản thu phân chia khác do cấp tỉnh quy định
B27: -
B28: -
B29: -
B30: …
A31: III | B31: Thu viện trợ không hoàn lại trực tiếp cho xã (nếu có)
A32: IV | B32: Thu chuyển nguồn
A33: V | B33: Thu kết dư ngân sách năm trước
A34: VI | B34: Thu bổ sung từ ngân sách cấp trên
B35: - Thu bổ sung cân đối
B36: - Thu bổ sung có mục tiêu

Sheet 118CKTC
A1: =t -> #REF! | I1: Biểu số 118/CK TC-NSNN
A2: =h -> #REF!
A3: =x -> #REF!
A4: QUYẾT TOÁN CHI NGÂN SÁCH XÃ NĂM...
A5: (Quyết toán đã được Hội đồng nhân dân phê chuẩn)
J6: =dv -> #REF!
A7: STT | B7: NỘI DUNG | C7: DỰ TOÁN | F7: QUYẾT TOÁN | J7: SO SÁNH QT/DT (%)
C8: TỔNG SỐ | D8: ĐẦU TƯ PHÁT TRIỂN | E8: THƯỜNG XUYÊN | F8: TỔNG SỐ | G8: ĐẦU TƯ PHÁT TRIỂN | H8: THƯỜNG XUYÊN | I8: TỔNG SỐ | K8: ĐẦU TƯ PHÁT TRIỂN | L8: THƯỜNG XUYÊN
A9: A | B9: B | C9: 1 | D9: 2 | E9: 3 | F9: 4 | G9: 5 | H9: 6 | I9: 7=4/1 | K9: 8=5/2 | L9: 9=6/3
B10: TỔNG CHI
B11: Trong đó
A12: 1 | B12: Chi giáo dục
A13: 2 | B13: Chi ứng dụng, chuyển giao công nghệ
A14: 3 | B14: Chi y tế
A15: 4 | B15: Chi văn hóa, thông tin
A16: 5 | B16: Chi phát thanh, truyền thanh
A17: 6 | B17: Chi thể dục thể thao
A18: 7 | B18: Chi bảo vệ môi trường
A19: 8 | B19: Chi các hoạt động kinh tế
A20: 9 | B20: Chi hoạt động của cơ quan quản lý Nhà nước, Đảng, đoàn thể
A21: 10 | B21: Chi cho công tác xã hội
A22: 11 | B22: Chi khác
A23: 12 | B23: Dự phòng
A24: 13 | B24: Chi chuyển nguồn ngân sách sang năm sau

Sheet 119CKTC
A1: =t -> #REF! | G1: Biểu số 119/CK TC-NSNN
A2: =h -> #REF!
A3: =x -> #REF!
A4: QUYẾT TOÁN CHI ĐẦU TƯ PHÁT TRIỂN(1) NĂM…
A5: (Quyết toán đã được Hội đồng nhân dân phê chuẩn
G6: =dv -> #REF!
A8: Tên công trình | B8: Thời gian khởi công - hoàn thành | C8: Tổng dự toán được duyệt | E8: Giá trị thực hiện từ 01/01 đến 31/12… | F8: Giá trị đã thanh toán năm…
F9: Tổng số | G9: Trong đó thanh toán khối lượng năm trước | H9: Chia theo nguồn vốn
C10: Tổng số | D10: Trong đó nguồn đóng góp | H10: Nguồn cân đối ngân sách | I10: Nguồn đóng góp
A11: TỔNG SỐ
A12: 1. Công trình chuyển tiếp
A13: -
A14: -
A15: Trong đó: hoàn thành trong năm
A16: -
A17: -
A18: 2. Công trình khởi công mới
A19: -
A20: -
A21: Trong đó: hoàn thành trong năm
A22: -
... A24: …

Sheet 120CKTC
A1: =t -> #REF! | E1: Biểu số 120/CK TC-NSNN
A2: =h -> #REF!
A3: =x -> #REF!
A4: THỰC HIỆN THU, CHI CÁC HOẠT ĐỘNG TÀI CHÍNH KHÁC NĂM..
A5: (Quyết toán đã được Hội đồng nhân dân phê chuẩn)
F6: =dv -> #REF!
A7: NỘI DUNG | B7: KẾ HOẠCH | E7: THỰC HIỆN
B8: THU | C8: CHI | D8: CHÊNH LỆCH (+) (-) | E8: THU | F8: CHI | G8: CHÊNH LỆCH (+) (-)
A9: TỔNG SỐ
A10: 1. Các quỹ tài chính nhà nước ngoài ngân sách
A11: -
A12: -
A13: -
A14: - …
A15: 2. Các hoạt động sự nghiệp
A16: + Chợ
A17: + Bến bãi
A18: +
A19: + …
A20: …
... A24: Chênh lệch (-) thu nhỏ hơn chi
